BEGIN:VCALENDAR
VERSION:2.0
PRODID:-//Essence Preparatory Public School - ECPv5.16.4//NONSGML v1.0//EN
CALSCALE:GREGORIAN
METHOD:PUBLISH
X-ORIGINAL-URL:https://www.essenceprepsa.org
X-WR-CALDESC:Events for Essence Preparatory Public School
REFRESH-INTERVAL;VALUE=DURATION:PT1H
X-Robots-Tag:noindex
X-PUBLISHED-TTL:PT1H
BEGIN:VTIMEZONE
TZID:America/Mexico_City
BEGIN:STANDARD
TZOFFSETFROM:-0600
TZOFFSETTO:-0600
TZNAME:CST
DTSTART:20250101T000000
END:STANDARD
END:VTIMEZONE
BEGIN:VEVENT
DTSTART;VALUE=DATE:20250825
DTEND;VALUE=DATE:20250830
DTSTAMP:20260419T091143
CREATED:20250718T203345Z
LAST-MODIFIED:20250718T203345Z
UID:3516-1756080000-1756511999@www.essenceprepsa.org
SUMMARY:BOY MAP (3rd - 8th)
DESCRIPTION:
URL:https://www.essenceprepsa.org/event/boy-map-3rd-8th/
CATEGORIES:Student Testing
END:VEVENT
END:VCALENDAR