BEGIN:VCALENDAR
VERSION:2.0
PRODID:-//Essence Preparatory Public School - ECPv5.16.4//NONSGML v1.0//EN
CALSCALE:GREGORIAN
METHOD:PUBLISH
X-ORIGINAL-URL:https://www.essenceprepsa.org
X-WR-CALDESC:Events for Essence Preparatory Public School
REFRESH-INTERVAL;VALUE=DURATION:PT1H
X-Robots-Tag:noindex
X-PUBLISHED-TTL:PT1H
BEGIN:VTIMEZONE
TZID:America/Mexico_City
BEGIN:STANDARD
TZOFFSETFROM:-0600
TZOFFSETTO:-0600
TZNAME:CST
DTSTART:20250101T000000
END:STANDARD
END:VTIMEZONE
BEGIN:VEVENT
DTSTART;VALUE=DATE:20251121
DTEND;VALUE=DATE:20251122
DTSTAMP:20260419T150113
CREATED:20250718T201010Z
LAST-MODIFIED:20250718T201010Z
UID:3476-1763683200-1763769599@www.essenceprepsa.org
SUMMARY:The 100th Day of School
DESCRIPTION:
URL:https://www.essenceprepsa.org/event/the-100th-day-of-school/
CATEGORIES:Campus Events
END:VEVENT
END:VCALENDAR