BEGIN:VCALENDAR
VERSION:2.0
PRODID:-//Essence Preparatory Public School - ECPv5.16.4//NONSGML v1.0//EN
CALSCALE:GREGORIAN
METHOD:PUBLISH
X-WR-CALNAME:Essence Preparatory Public School
X-ORIGINAL-URL:https://www.essenceprepsa.org
X-WR-CALDESC:Events for Essence Preparatory Public School
REFRESH-INTERVAL;VALUE=DURATION:PT1H
X-Robots-Tag:noindex
X-PUBLISHED-TTL:PT1H
BEGIN:VTIMEZONE
TZID:America/Mexico_City
BEGIN:STANDARD
TZOFFSETFROM:-0600
TZOFFSETTO:-0600
TZNAME:CST
DTSTART:20250101T000000
END:STANDARD
END:VTIMEZONE
BEGIN:VEVENT
DTSTART;VALUE=DATE:20250902
DTEND;VALUE=DATE:20250903
DTSTAMP:20260419T164830
CREATED:20250718T203432Z
LAST-MODIFIED:20250718T203432Z
UID:3518-1756771200-1756857599@www.essenceprepsa.org
SUMMARY:BOY MAP (K-2nd)
DESCRIPTION:
URL:https://www.essenceprepsa.org/event/boy-map-k-2nd/
CATEGORIES:Student Testing
END:VEVENT
BEGIN:VEVENT
DTSTART;VALUE=DATE:20250901
DTEND;VALUE=DATE:20250902
DTSTAMP:20260419T164830
CREATED:20230829T202709Z
LAST-MODIFIED:20250718T200917Z
UID:2434-1756684800-1756771199@www.essenceprepsa.org
SUMMARY:Labor Day
DESCRIPTION:
URL:https://www.essenceprepsa.org/event/labor-day/
CATEGORIES:Student/Staff Holiday - No School
END:VEVENT
BEGIN:VEVENT
DTSTART;VALUE=DATE:20250825
DTEND;VALUE=DATE:20250830
DTSTAMP:20260419T164830
CREATED:20250718T203345Z
LAST-MODIFIED:20250718T203345Z
UID:3516-1756080000-1756511999@www.essenceprepsa.org
SUMMARY:BOY MAP (3rd - 8th)
DESCRIPTION:
URL:https://www.essenceprepsa.org/event/boy-map-3rd-8th/
CATEGORIES:Student Testing
END:VEVENT
BEGIN:VEVENT
DTSTART;VALUE=DATE:20250813
DTEND;VALUE=DATE:20250814
DTSTAMP:20260419T164830
CREATED:20250718T203219Z
LAST-MODIFIED:20250718T203219Z
UID:3514-1755043200-1755129599@www.essenceprepsa.org
SUMMARY:First Day of School
DESCRIPTION:Start of 1st 6 Weeks
URL:https://www.essenceprepsa.org/event/first-day-of-school/
END:VEVENT
BEGIN:VEVENT
DTSTART;TZID=America/Mexico_City:20250812T173000
DTEND;TZID=America/Mexico_City:20250812T183000
DTSTAMP:20260419T164830
CREATED:20230829T202824Z
LAST-MODIFIED:20250718T200403Z
UID:2450-1755019800-1755023400@www.essenceprepsa.org
SUMMARY:Meet the Teacher Night
DESCRIPTION:
URL:https://www.essenceprepsa.org/event/meet-the-teacher/
CATEGORIES:Events
END:VEVENT
BEGIN:VEVENT
DTSTART;VALUE=DATE:20250808
DTEND;VALUE=DATE:20250809
DTSTAMP:20260419T164830
CREATED:20230829T202906Z
LAST-MODIFIED:20250718T200516Z
UID:2458-1754611200-1754697599@www.essenceprepsa.org
SUMMARY:Open House/Scholar & Family Orientation
DESCRIPTION:
URL:https://www.essenceprepsa.org/event/open-house/
CATEGORIES:Events
END:VEVENT
BEGIN:VEVENT
DTSTART;TZID=America/Mexico_City:20250807T100000
DTEND;TZID=America/Mexico_City:20250807T140000
DTSTAMP:20260419T164830
CREATED:20230829T202934Z
LAST-MODIFIED:20250718T200130Z
UID:2466-1754560800-1754575200@www.essenceprepsa.org
SUMMARY:ICON Talks Back to School Bash
DESCRIPTION:
URL:https://www.essenceprepsa.org/event/back-to-school/
CATEGORIES:Events
END:VEVENT
BEGIN:VEVENT
DTSTART;VALUE=DATE:20250731
DTEND;VALUE=DATE:20250813
DTSTAMP:20260419T164830
CREATED:20250718T203133Z
LAST-MODIFIED:20250718T203133Z
UID:3512-1753920000-1755043199@www.essenceprepsa.org
SUMMARY:Staff Professional Development
DESCRIPTION:No school
URL:https://www.essenceprepsa.org/event/staff-professional-development/
CATEGORIES:Staff Development
END:VEVENT
BEGIN:VEVENT
DTSTART;VALUE=DATE:20250707
DTEND;VALUE=DATE:20250726
DTSTAMP:20260419T164830
CREATED:20250718T203609Z
LAST-MODIFIED:20250718T203609Z
UID:3522-1751846400-1753487999@www.essenceprepsa.org
SUMMARY:Summer RISE 2025
DESCRIPTION:
URL:https://www.essenceprepsa.org/event/summer-rise-2025/
CATEGORIES:Summer School
END:VEVENT
END:VCALENDAR